BEGIN:VCALENDAR
VERSION:2.0
PRODID:-//Buc Rugby - ECPv6.15.17.1//NONSGML v1.0//EN
CALSCALE:GREGORIAN
METHOD:PUBLISH
X-WR-CALNAME:Buc Rugby
X-ORIGINAL-URL:https://bucrugby.com
X-WR-CALDESC:Events for Buc Rugby
REFRESH-INTERVAL;VALUE=DURATION:PT1H
X-Robots-Tag:noindex
X-PUBLISHED-TTL:PT1H
BEGIN:VTIMEZONE
TZID:UTC
BEGIN:STANDARD
TZOFFSETFROM:+0000
TZOFFSETTO:+0000
TZNAME:UTC
DTSTART:20230101T000000
END:STANDARD
END:VTIMEZONE
BEGIN:VEVENT
DTSTART;TZID=UTC:20240501T173000
DTEND;TZID=UTC:20240501T193000
DTSTAMP:20260420T005523
CREATED:20240328T115710Z
LAST-MODIFIED:20240328T115718Z
UID:653-1714584600-1714591800@bucrugby.com
SUMMARY:Practice
DESCRIPTION:
URL:https://bucrugby.com/event/practice-27/
LOCATION:Pierce Elementary\, 1829 Pierce St\,\, Birmingham\, MI\, 48009
CATEGORIES:Practice
ATTACH;FMTTYPE=image/jpeg:https://bucrugby.com/wp-content/uploads/2024/03/pierce-elementary-school-birmingham-mi-3.jpg
ORGANIZER;CN="Brad Warner":MAILTO:bradwarner2@sbcglobal.net
END:VEVENT
BEGIN:VEVENT
DTSTART;TZID=UTC:20240502T180000
DTEND;TZID=UTC:20240502T200000
DTSTAMP:20260420T005523
CREATED:20240328T120117Z
LAST-MODIFIED:20240328T120140Z
UID:655-1714672800-1714680000@bucrugby.com
SUMMARY:Away Match vs. Howell High School
DESCRIPTION:
URL:https://bucrugby.com/event/away-match-vs-howell-high-school/
LOCATION:Howell High School\, 1200 W Grand River Ave.\, Howell\, MI\, 48843
CATEGORIES:Game
ATTACH;FMTTYPE=image/png:https://bucrugby.com/wp-content/uploads/2024/03/Howell-Match.png
ORGANIZER;CN="Brad Warner":MAILTO:bradwarner2@sbcglobal.net
END:VEVENT
BEGIN:VEVENT
DTSTART;VALUE=DATE:20240504
DTEND;VALUE=DATE:20240506
DTSTAMP:20260420T005523
CREATED:20240328T120352Z
LAST-MODIFIED:20240426T212017Z
UID:660-1714780800-1714953599@bucrugby.com
SUMMARY:St. Xavier High School Rugby Invitational
DESCRIPTION:
URL:https://bucrugby.com/event/st-xavier-high-school-rugby-invitational/
LOCATION:St. Xavier High School\, 600 W. North Bend Road\, Cincinnati\, OH\, 45224
CATEGORIES:Game
ATTACH;FMTTYPE=image/jpeg:https://bucrugby.com/wp-content/uploads/2024/03/2024-Tournament-Bracket-V4-e1714166405661.jpg
ORGANIZER;CN="Brad Warner":MAILTO:bradwarner2@sbcglobal.net
END:VEVENT
BEGIN:VEVENT
DTSTART;TZID=UTC:20240506T173000
DTEND;TZID=UTC:20240506T193000
DTSTAMP:20260420T005523
CREATED:20240328T120507Z
LAST-MODIFIED:20240328T120516Z
UID:664-1715016600-1715023800@bucrugby.com
SUMMARY:Practice
DESCRIPTION:
URL:https://bucrugby.com/event/practice-28/
LOCATION:Pierce Elementary\, 1829 Pierce St\,\, Birmingham\, MI\, 48009
CATEGORIES:Practice
ATTACH;FMTTYPE=image/jpeg:https://bucrugby.com/wp-content/uploads/2024/03/pierce-elementary-school-birmingham-mi-3.jpg
ORGANIZER;CN="Brad Warner":MAILTO:bradwarner2@sbcglobal.net
END:VEVENT
BEGIN:VEVENT
DTSTART;TZID=UTC:20240507T173000
DTEND;TZID=UTC:20240507T193000
DTSTAMP:20260420T005523
CREATED:20240328T120556Z
LAST-MODIFIED:20240328T120715Z
UID:666-1715103000-1715110200@bucrugby.com
SUMMARY:Practice
DESCRIPTION:
URL:https://bucrugby.com/event/practice-29/
LOCATION:Pierce Elementary\, 1829 Pierce St\,\, Birmingham\, MI\, 48009
CATEGORIES:Practice
ATTACH;FMTTYPE=image/jpeg:https://bucrugby.com/wp-content/uploads/2024/03/pierce-elementary-school-birmingham-mi-3.jpg
ORGANIZER;CN="Brad Warner":MAILTO:bradwarner2@sbcglobal.net
END:VEVENT
BEGIN:VEVENT
DTSTART;TZID=UTC:20240508T190000
DTEND;TZID=UTC:20240508T210000
DTSTAMP:20260420T005523
CREATED:20240328T121145Z
LAST-MODIFIED:20240508T180133Z
UID:670-1715194800-1715202000@bucrugby.com
SUMMARY:Away Match vs. Detroit Catholic Central High School
DESCRIPTION:
URL:https://bucrugby.com/event/away-match-vs-detroit-catholic-central-high-school/
LOCATION:Detroit Catholic Central High School\, 27225 Wixom Rd.\, Wixom\, MI\, 48374
CATEGORIES:Game
ATTACH;FMTTYPE=image/jpeg:https://bucrugby.com/wp-content/uploads/2024/03/bucs-2024-GAMEDAY-6-v-DCC.jpg
ORGANIZER;CN="Brad Warner":MAILTO:bradwarner2@sbcglobal.net
END:VEVENT
BEGIN:VEVENT
DTSTART;TZID=UTC:20240509T173000
DTEND;TZID=UTC:20240509T193000
DTSTAMP:20260420T005523
CREATED:20240328T120754Z
LAST-MODIFIED:20240328T120804Z
UID:668-1715275800-1715283000@bucrugby.com
SUMMARY:Practice
DESCRIPTION:
URL:https://bucrugby.com/event/practice-30/
LOCATION:Pierce Elementary\, 1829 Pierce St\,\, Birmingham\, MI\, 48009
CATEGORIES:Practice
ATTACH;FMTTYPE=image/jpeg:https://bucrugby.com/wp-content/uploads/2024/03/pierce-elementary-school-birmingham-mi-3.jpg
ORGANIZER;CN="Brad Warner":MAILTO:bradwarner2@sbcglobal.net
END:VEVENT
BEGIN:VEVENT
DTSTART;TZID=UTC:20240513T173000
DTEND;TZID=UTC:20240513T193000
DTSTAMP:20260420T005523
CREATED:20240328T121223Z
LAST-MODIFIED:20240328T121232Z
UID:674-1715621400-1715628600@bucrugby.com
SUMMARY:Practice
DESCRIPTION:
URL:https://bucrugby.com/event/practice-31/
LOCATION:Pierce Elementary\, 1829 Pierce St\,\, Birmingham\, MI\, 48009
CATEGORIES:Practice
ATTACH;FMTTYPE=image/jpeg:https://bucrugby.com/wp-content/uploads/2024/03/pierce-elementary-school-birmingham-mi-3.jpg
ORGANIZER;CN="Brad Warner":MAILTO:bradwarner2@sbcglobal.net
END:VEVENT
BEGIN:VEVENT
DTSTART;TZID=UTC:20240514T173000
DTEND;TZID=UTC:20240514T193000
DTSTAMP:20260420T005523
CREATED:20240328T121305Z
LAST-MODIFIED:20240328T121314Z
UID:676-1715707800-1715715000@bucrugby.com
SUMMARY:Practice
DESCRIPTION:
URL:https://bucrugby.com/event/practice-32/
LOCATION:Pierce Elementary\, 1829 Pierce St\,\, Birmingham\, MI\, 48009
CATEGORIES:Practice
ATTACH;FMTTYPE=image/jpeg:https://bucrugby.com/wp-content/uploads/2024/03/pierce-elementary-school-birmingham-mi-3.jpg
ORGANIZER;CN="Brad Warner":MAILTO:bradwarner2@sbcglobal.net
END:VEVENT
BEGIN:VEVENT
DTSTART;TZID=UTC:20240515T173000
DTEND;TZID=UTC:20240515T193000
DTSTAMP:20260420T005523
CREATED:20240328T121347Z
LAST-MODIFIED:20240328T121358Z
UID:679-1715794200-1715801400@bucrugby.com
SUMMARY:Practice
DESCRIPTION:
URL:https://bucrugby.com/event/practice-33/
LOCATION:Pierce Elementary\, 1829 Pierce St\,\, Birmingham\, MI\, 48009
CATEGORIES:Practice
ATTACH;FMTTYPE=image/jpeg:https://bucrugby.com/wp-content/uploads/2024/03/pierce-elementary-school-birmingham-mi-3.jpg
ORGANIZER;CN="Brad Warner":MAILTO:bradwarner2@sbcglobal.net
END:VEVENT
BEGIN:VEVENT
DTSTART;TZID=UTC:20240516T173000
DTEND;TZID=UTC:20240516T193000
DTSTAMP:20260420T005523
CREATED:20240328T121440Z
LAST-MODIFIED:20240328T121452Z
UID:681-1715880600-1715887800@bucrugby.com
SUMMARY:Practice
DESCRIPTION:
URL:https://bucrugby.com/event/practice-34/
LOCATION:Pierce Elementary\, 1829 Pierce St\,\, Birmingham\, MI\, 48009
CATEGORIES:Practice
ATTACH;FMTTYPE=image/jpeg:https://bucrugby.com/wp-content/uploads/2024/03/pierce-elementary-school-birmingham-mi-3.jpg
ORGANIZER;CN="Brad Warner":MAILTO:bradwarner2@sbcglobal.net
END:VEVENT
BEGIN:VEVENT
DTSTART;TZID=UTC:20240520T173000
DTEND;TZID=UTC:20240520T193000
DTSTAMP:20260420T005523
CREATED:20240328T121528Z
LAST-MODIFIED:20240328T121538Z
UID:683-1716226200-1716233400@bucrugby.com
SUMMARY:Practice
DESCRIPTION:
URL:https://bucrugby.com/event/practice-35/
LOCATION:Pierce Elementary\, 1829 Pierce St\,\, Birmingham\, MI\, 48009
CATEGORIES:Practice
ATTACH;FMTTYPE=image/jpeg:https://bucrugby.com/wp-content/uploads/2024/03/pierce-elementary-school-birmingham-mi-3.jpg
ORGANIZER;CN="Brad Warner":MAILTO:bradwarner2@sbcglobal.net
END:VEVENT
BEGIN:VEVENT
DTSTART;TZID=UTC:20240521T180000
DTEND;TZID=UTC:20240521T200000
DTSTAMP:20260420T005523
CREATED:20240328T122000Z
LAST-MODIFIED:20240521T153257Z
UID:689-1716314400-1716321600@bucrugby.com
SUMMARY:Away Match vs. Troy United
DESCRIPTION:
URL:https://bucrugby.com/event/away-match-vs-troy-united/
LOCATION:Boyd R. Larson Middle School\, 2222 E Long Lake Rd.\, Troy\, MI
CATEGORIES:Game
ATTACH;FMTTYPE=image/jpeg:https://bucrugby.com/wp-content/uploads/2024/03/bucs-2024-GAMEDAY-6-v-TROY.jpg
ORGANIZER;CN="Brad Warner":MAILTO:bradwarner2@sbcglobal.net
END:VEVENT
BEGIN:VEVENT
DTSTART;TZID=UTC:20240522T173000
DTEND;TZID=UTC:20240522T193000
DTSTAMP:20260420T005523
CREATED:20240328T121654Z
LAST-MODIFIED:20240328T121708Z
UID:687-1716399000-1716406200@bucrugby.com
SUMMARY:Practice
DESCRIPTION:
URL:https://bucrugby.com/event/practice-37/
LOCATION:Pierce Elementary\, 1829 Pierce St\,\, Birmingham\, MI\, 48009
CATEGORIES:Practice
ATTACH;FMTTYPE=image/jpeg:https://bucrugby.com/wp-content/uploads/2024/03/pierce-elementary-school-birmingham-mi-3.jpg
ORGANIZER;CN="Brad Warner":MAILTO:bradwarner2@sbcglobal.net
END:VEVENT
BEGIN:VEVENT
DTSTART;TZID=UTC:20240523T173000
DTEND;TZID=UTC:20240523T193000
DTSTAMP:20260420T005523
CREATED:20240328T121612Z
LAST-MODIFIED:20240419T141434Z
UID:685-1716485400-1716492600@bucrugby.com
SUMMARY:Practice
DESCRIPTION:
URL:https://bucrugby.com/event/practice-36/
LOCATION:Pierce Elementary\, 1829 Pierce St\,\, Birmingham\, MI\, 48009
CATEGORIES:Practice
ATTACH;FMTTYPE=image/jpeg:https://bucrugby.com/wp-content/uploads/2024/03/pierce-elementary-school-birmingham-mi-3.jpg
ORGANIZER;CN="Brad Warner":MAILTO:bradwarner2@sbcglobal.net
END:VEVENT
END:VCALENDAR