BEGIN:VCALENDAR
VERSION:2.0
PRODID:-//Buc Rugby - ECPv6.15.17.1//NONSGML v1.0//EN
CALSCALE:GREGORIAN
METHOD:PUBLISH
X-ORIGINAL-URL:https://bucrugby.com
X-WR-CALDESC:Events for Buc Rugby
REFRESH-INTERVAL;VALUE=DURATION:PT1H
X-Robots-Tag:noindex
X-PUBLISHED-TTL:PT1H
BEGIN:VTIMEZONE
TZID:UTC
BEGIN:STANDARD
TZOFFSETFROM:+0000
TZOFFSETTO:+0000
TZNAME:UTC
DTSTART:20230101T000000
END:STANDARD
END:VTIMEZONE
BEGIN:VEVENT
DTSTART;TZID=UTC:20240404T180000
DTEND;TZID=UTC:20240404T200000
DTSTAMP:20260420T035834
CREATED:20240328T113115Z
LAST-MODIFIED:20240405T133154Z
UID:612-1712253600-1712260800@bucrugby.com
SUMMARY:Home Match vs. Loyola High School
DESCRIPTION:
URL:https://bucrugby.com/event/home-match-vs-loyola-high-school/
LOCATION:Derby Middle School\, 1300 Derby Rd.\, Birmingham\, MI\, 48009
ATTACH;FMTTYPE=image/jpeg:https://bucrugby.com/wp-content/uploads/2024/03/2024-week-1-score.jpg
ORGANIZER;CN="Brad Warner":MAILTO:bradwarner2@sbcglobal.net
END:VEVENT
END:VCALENDAR