BEGIN:VCALENDAR
VERSION:2.0
PRODID:-//Buc Rugby - ECPv6.15.17.1//NONSGML v1.0//EN
CALSCALE:GREGORIAN
METHOD:PUBLISH
X-ORIGINAL-URL:https://bucrugby.com
X-WR-CALDESC:Events for Buc Rugby
REFRESH-INTERVAL;VALUE=DURATION:PT1H
X-Robots-Tag:noindex
X-PUBLISHED-TTL:PT1H
BEGIN:VTIMEZONE
TZID:UTC
BEGIN:STANDARD
TZOFFSETFROM:+0000
TZOFFSETTO:+0000
TZNAME:UTC
DTSTART:20230101T000000
END:STANDARD
END:VTIMEZONE
BEGIN:VEVENT
DTSTART;TZID=UTC:20240411T180000
DTEND;TZID=UTC:20240411T200000
DTSTAMP:20260420T040114
CREATED:20240328T113954Z
LAST-MODIFIED:20240409T190006Z
UID:627-1712858400-1712865600@bucrugby.com
SUMMARY:Away Match vs. Washtenaw
DESCRIPTION:
URL:https://bucrugby.com/event/away-match-vs-washtenaw/
LOCATION:Norup International School\, 14450 Manhattan Street\, Oak Park\, Michigan\, 48237
ATTACH;FMTTYPE=image/jpeg:https://bucrugby.com/wp-content/uploads/2024/03/2024-week-2.jpg
ORGANIZER;CN="Brad Warner":MAILTO:bradwarner2@sbcglobal.net
END:VEVENT
END:VCALENDAR