BEGIN:VCALENDAR
VERSION:2.0
PRODID:-//Buc Rugby - ECPv6.15.17.1//NONSGML v1.0//EN
CALSCALE:GREGORIAN
METHOD:PUBLISH
X-ORIGINAL-URL:https://bucrugby.com
X-WR-CALDESC:Events for Buc Rugby
REFRESH-INTERVAL;VALUE=DURATION:PT1H
X-Robots-Tag:noindex
X-PUBLISHED-TTL:PT1H
BEGIN:VTIMEZONE
TZID:UTC
BEGIN:STANDARD
TZOFFSETFROM:+0000
TZOFFSETTO:+0000
TZNAME:UTC
DTSTART:20230101T000000
END:STANDARD
END:VTIMEZONE
BEGIN:VEVENT
DTSTART;TZID=UTC:20240508T190000
DTEND;TZID=UTC:20240508T210000
DTSTAMP:20260420T022458
CREATED:20240328T121145Z
LAST-MODIFIED:20240508T180133Z
UID:670-1715194800-1715202000@bucrugby.com
SUMMARY:Away Match vs. Detroit Catholic Central High School
DESCRIPTION:
URL:https://bucrugby.com/event/away-match-vs-detroit-catholic-central-high-school/
LOCATION:Detroit Catholic Central High School\, 27225 Wixom Rd.\, Wixom\, MI\, 48374
CATEGORIES:Game
ATTACH;FMTTYPE=image/jpeg:https://bucrugby.com/wp-content/uploads/2024/03/bucs-2024-GAMEDAY-6-v-DCC.jpg
ORGANIZER;CN="Brad Warner":MAILTO:bradwarner2@sbcglobal.net
END:VEVENT
END:VCALENDAR