BEGIN:VCALENDAR
VERSION:2.0
PRODID:-//Buc Rugby - ECPv6.15.17.1//NONSGML v1.0//EN
CALSCALE:GREGORIAN
METHOD:PUBLISH
X-ORIGINAL-URL:https://bucrugby.com
X-WR-CALDESC:Events for Buc Rugby
REFRESH-INTERVAL;VALUE=DURATION:PT1H
X-Robots-Tag:noindex
X-PUBLISHED-TTL:PT1H
BEGIN:VTIMEZONE
TZID:UTC
BEGIN:STANDARD
TZOFFSETFROM:+0000
TZOFFSETTO:+0000
TZNAME:UTC
DTSTART:20230101T000000
END:STANDARD
END:VTIMEZONE
BEGIN:VEVENT
DTSTART;TZID=UTC:20240605T183000
DTEND;TZID=UTC:20240605T203000
DTSTAMP:20260420T003451
CREATED:20240417T131332Z
LAST-MODIFIED:20240417T131332Z
UID:983-1717612200-1717619400@bucrugby.com
SUMMARY:22nd Annual BucBanquet
DESCRIPTION:Players and their families are invited to join us for a fun evening celebrating the season and recognizing our players.
URL:https://bucrugby.com/event/22nd-annual-bucbanquet/
LOCATION:Maggiano’s Little Italy\, 2089 W Big Beaver Road\, Troy\, Michigan\, 48084
ORGANIZER;CN="Brad Warner":MAILTO:bradwarner2@sbcglobal.net
END:VEVENT
END:VCALENDAR