BEGIN:VCALENDAR
VERSION:2.0
PRODID:-//Buc Rugby - ECPv6.15.17.1//NONSGML v1.0//EN
CALSCALE:GREGORIAN
METHOD:PUBLISH
X-WR-CALNAME:Buc Rugby
X-ORIGINAL-URL:https://bucrugby.com
X-WR-CALDESC:Events for Buc Rugby
REFRESH-INTERVAL;VALUE=DURATION:PT1H
X-Robots-Tag:noindex
X-PUBLISHED-TTL:PT1H
BEGIN:VTIMEZONE
TZID:UTC
BEGIN:STANDARD
TZOFFSETFROM:+0000
TZOFFSETTO:+0000
TZNAME:UTC
DTSTART:20240101T000000
END:STANDARD
END:VTIMEZONE
BEGIN:VEVENT
DTSTART;TZID=UTC:20250116T150000
DTEND;TZID=UTC:20250116T153000
DTSTAMP:20260419T133617
CREATED:20241230T213802Z
LAST-MODIFIED:20250113T205314Z
UID:10082-1737039600-1737041400@bucrugby.com
SUMMARY:Groves Recruiting & Information Meeting
DESCRIPTION:We will be holding a recruiting and team information meeting in the Groves High School cafeteria on Thursday\, Jan. 16\, 2025\, 3-3:30 p.m. \nThis meeting is for all returning and new players\, as well as any student athlete that might be interested in playing high school rugby this spring for the Buccaneers.
URL:https://bucrugby.com/event/groves-recruiting-information-meeting/
LOCATION:Groves High School Cafeteria\, 20500 W 13 Mile Rd\, Beverly Hills\, MI\, 48025\, United States
ATTACH;FMTTYPE=image/jpeg:https://bucrugby.com/wp-content/uploads/2024/12/PRESEASON-GROVES-MEETING-1-16.jpg
ORGANIZER;CN="Brad Warner":MAILTO:bradwarner2@sbcglobal.net
END:VEVENT
END:VCALENDAR